BEGIN:VCALENDAR
VERSION:2.0
PRODID:-//www.arcnbc.org//NONSGML kigkonsult.se iCalcreator 2.30.10//
CALSCALE:GREGORIAN
METHOD:PUBLISH
UID:0a527d83-29c4-4806-ac35-83b82bd97104
X-WR-CALDESC:This is an opportunity to all come together to discuss what is
  going on in our lives.  Any obstacles we may face\, any lessons we can gi
 ve to each other.  This is also when we discuss Rec Connect events\, and s
 ome activities we have never tried before or would like to see on our cale
 ndar.  We then get to enjoy a dinner together.
X-WR-RELCALID:d1b2c5828a251d05b90d836eb0571324
X-WR-TIMEZONE:America/New_York
BEGIN:VTIMEZONE
TZID:America/New_York
BEGIN:STANDARD
TZNAME:EST
DTSTART:20181104T020000
TZOFFSETFROM:-0400
TZOFFSETTO:-0500
RDATE:20191103T020000
RDATE:20201101T020000
END:STANDARD
BEGIN:DAYLIGHT
TZNAME:EDT
DTSTART:20190310T020000
TZOFFSETFROM:-0500
TZOFFSETTO:-0400
RDATE:20200308T020000
END:DAYLIGHT
END:VTIMEZONE
BEGIN:VEVENT
UID:068e9161-c861-41c8-b0f2-4d2b7159d9be
DTSTAMP:20260423T120236Z
DESCRIPTION:This is an opportunity to all come together to discuss what is 
 going on in our lives.  Any obstacles we may face\, any lessons we can giv
 e to each other.  This is also when we discuss Rec Connect events\, and so
 me activities we have never tried before or would like to see on our calen
 dar.  We then get to enjoy a dinner together.
DTSTART;TZID=America/New_York:20190509T150000
DTEND;TZID=America/New_York:20190509T173000
LOCATION:The Arc 141 Park St. Attleboro\, Ma
SUMMARY:Self Advocacy & Dinner
END:VEVENT
END:VCALENDAR
