BEGIN:VCALENDAR
VERSION:2.0
PRODID:-//www.arcnbc.org//NONSGML kigkonsult.se iCalcreator 2.30.10//
CALSCALE:GREGORIAN
METHOD:PUBLISH
UID:488b3641-2960-432c-8298-a17540bafbcb
X-WR-CALDESC:Mass Music and Art Society presents 'Evita'.  The story of Arg
 entine political leader Eva Peron.  The show is at 8:00 pm.   We will be h
 aving dinner prior to the show.
X-WR-RELCALID:6d7e51c14541f8d384686497398f3d11
X-WR-TIMEZONE:America/New_York
BEGIN:VTIMEZONE
TZID:America/New_York
BEGIN:STANDARD
TZNAME:EST
DTSTART:20181104T020000
TZOFFSETFROM:-0400
TZOFFSETTO:-0500
RDATE:20191103T020000
RDATE:20201101T020000
END:STANDARD
BEGIN:DAYLIGHT
TZNAME:EDT
DTSTART:20190310T020000
TZOFFSETFROM:-0500
TZOFFSETTO:-0400
RDATE:20200308T020000
END:DAYLIGHT
END:VTIMEZONE
BEGIN:VEVENT
UID:46d18282-141d-4a52-aaa0-aaceb671fae9
DTSTAMP:20260423T115929Z
DESCRIPTION:Mass Music and Art Society presents 'Evita'.  The story of Arge
 ntine political leader Eva Peron.  The show is at 8:00 pm.   We will be ha
 ving dinner prior to the show.
DTSTART;TZID=America/New_York:20190510T170000
DTEND;TZID=America/New_York:20190510T230000
LOCATION:MMAS Mansfield\, Ma
SUMMARY:Evita & Dinner
END:VEVENT
END:VCALENDAR
