BEGIN:VCALENDAR
VERSION:2.0
PRODID:-//www.arcnbc.org//NONSGML kigkonsult.se iCalcreator 2.30.10//
CALSCALE:GREGORIAN
METHOD:PUBLISH
UID:d46d8cfb-e952-4652-8d09-dd40bd43ef1d
X-WR-CALDESC:
X-WR-RELCALID:720419119d49e0684fd7fbf477c9058f
X-WR-TIMEZONE:America/New_York
BEGIN:VTIMEZONE
TZID:America/New_York
BEGIN:STANDARD
TZNAME:EST
DTSTART:20181104T020000
TZOFFSETFROM:-0400
TZOFFSETTO:-0500
RDATE:20191103T020000
RDATE:20201101T020000
END:STANDARD
BEGIN:DAYLIGHT
TZNAME:EDT
DTSTART:20190310T020000
TZOFFSETFROM:-0500
TZOFFSETTO:-0400
RDATE:20200308T020000
END:DAYLIGHT
END:VTIMEZONE
BEGIN:VEVENT
UID:ed28ad38-8f49-495f-83d5-40a36713ad29
DTSTAMP:20260423T120633Z
DESCRIPTION:
DTSTART;TZID=America/New_York:20190511T090000
DTEND;TZID=America/New_York:20190511T150000
LOCATION:16 Hillside Ave. Attleboro\, MA
SUMMARY:Safety Care Day One
END:VEVENT
END:VCALENDAR
