BEGIN:VCALENDAR
VERSION:2.0
PRODID:-//www.arcnbc.org//NONSGML kigkonsult.se iCalcreator 2.30.10//
CALSCALE:GREGORIAN
METHOD:PUBLISH
UID:d70d490c-707f-4dab-acc4-ea06f2c1c503
X-WR-CALDESC:This show is based of the 50's musical.  We will be having din
 ner following the 2:00 pm show.  The show is about 2.5 hours with a small 
 intermission.
X-WR-RELCALID:b22810650003ca0c045e7100c5ee62ee
X-WR-TIMEZONE:America/New_York
BEGIN:VTIMEZONE
TZID:America/New_York
BEGIN:STANDARD
TZNAME:EST
DTSTART:20181104T020000
TZOFFSETFROM:-0400
TZOFFSETTO:-0500
RDATE:20191103T020000
RDATE:20201101T020000
END:STANDARD
BEGIN:DAYLIGHT
TZNAME:EDT
DTSTART:20190310T020000
TZOFFSETFROM:-0500
TZOFFSETTO:-0400
RDATE:20200308T020000
END:DAYLIGHT
END:VTIMEZONE
BEGIN:VEVENT
UID:4d16794f-86ac-4c83-9824-1ecaa6e2e155
DTSTAMP:20260423T120224Z
DESCRIPTION:This show is based of the 50's musical.  We will be having dinn
 er following the 2:00 pm show.  The show is about 2.5 hours with a small i
 ntermission.
DTSTART;TZID=America/New_York:20190512T133000
DTEND;TZID=America/New_York:20190512T193000
LOCATION:The Stadium Theater in Woonsocket\, RI
SUMMARY:Grease the Musical
END:VEVENT
END:VCALENDAR
