BEGIN:VCALENDAR
VERSION:2.0
PRODID:-//www.arcnbc.org//NONSGML kigkonsult.se iCalcreator 2.30.10//
CALSCALE:GREGORIAN
METHOD:PUBLISH
UID:1e8e77d5-b735-4c4c-abc9-5b9893ce124f
X-WR-CALDESC:Weekly Bowling event.
X-WR-RELCALID:23cf80edc3246330850b33e233368bfd
X-WR-TIMEZONE:America/New_York
BEGIN:VTIMEZONE
TZID:America/New_York
BEGIN:STANDARD
TZNAME:EST
DTSTART:20181104T020000
TZOFFSETFROM:-0400
TZOFFSETTO:-0500
RDATE:20191103T020000
RDATE:20201101T020000
END:STANDARD
BEGIN:DAYLIGHT
TZNAME:EDT
DTSTART:20190310T020000
TZOFFSETFROM:-0500
TZOFFSETTO:-0400
RDATE:20200308T020000
END:DAYLIGHT
END:VTIMEZONE
BEGIN:VEVENT
UID:6dce56ba-d662-493f-b0fc-26ea8dc9e3c5
DTSTAMP:20260423T120352Z
DESCRIPTION:Weekly Bowling event.
DTSTART;TZID=America/New_York:20190514T180000
DTEND;TZID=America/New_York:20190514T200000
LOCATION:East Providence Lanes
SUMMARY:Bowling
END:VEVENT
END:VCALENDAR
