BEGIN:VCALENDAR
VERSION:2.0
PRODID:-//www.arcnbc.org//NONSGML kigkonsult.se iCalcreator 2.30.10//
CALSCALE:GREGORIAN
METHOD:PUBLISH
UID:b58bef27-d458-4e4d-89b1-7943002a1f66
X-WR-CALDESC:
X-WR-RELCALID:4d0f811d261fc2bcf8570eb65b10c1cf
X-WR-TIMEZONE:America/New_York
BEGIN:VTIMEZONE
TZID:America/New_York
BEGIN:STANDARD
TZNAME:EST
DTSTART:20181104T020000
TZOFFSETFROM:-0400
TZOFFSETTO:-0500
RDATE:20191103T020000
RDATE:20201101T020000
END:STANDARD
BEGIN:DAYLIGHT
TZNAME:EDT
DTSTART:20190310T020000
TZOFFSETFROM:-0500
TZOFFSETTO:-0400
RDATE:20200308T020000
END:DAYLIGHT
END:VTIMEZONE
BEGIN:VEVENT
UID:27f6f20c-fe15-44c9-b988-6542e3ab8900
DTSTAMP:20260423T120537Z
DESCRIPTION:
DTSTART;TZID=America/New_York:20190518T090000
DTEND;TZID=America/New_York:20190518T150000
LOCATION:16 Hillside Ave. Attleboro\, MA
SUMMARY:Safety Care Day Two
END:VEVENT
END:VCALENDAR
