BEGIN:VCALENDAR
VERSION:2.0
PRODID:-//www.arcnbc.org//NONSGML kigkonsult.se iCalcreator 2.30.10//
CALSCALE:GREGORIAN
METHOD:PUBLISH
UID:8329c6c1-1ffa-4c1e-850d-d913e1794a51
X-WR-CALDESC:This is a chance to get up close and personal with some local 
 wrestlers.  When attending the show last quarter it was such a hit we adde
 d it again.  The show is at 7:00 pm.  We will be having dinner prior to th
 e match.
X-WR-RELCALID:ae6c47971c6ca253185c93a9896f5ca6
X-WR-TIMEZONE:America/New_York
BEGIN:VTIMEZONE
TZID:America/New_York
BEGIN:STANDARD
TZNAME:EST
DTSTART:20181104T020000
TZOFFSETFROM:-0400
TZOFFSETTO:-0500
RDATE:20191103T020000
RDATE:20201101T020000
END:STANDARD
BEGIN:DAYLIGHT
TZNAME:EDT
DTSTART:20190310T020000
TZOFFSETFROM:-0500
TZOFFSETTO:-0400
RDATE:20200308T020000
END:DAYLIGHT
END:VTIMEZONE
BEGIN:VEVENT
UID:320bb03f-eda3-4c8e-9d98-0d9f0ffff1ce
DTSTAMP:20260423T120956Z
DESCRIPTION:This is a chance to get up close and personal with some local w
 restlers.  When attending the show last quarter it was such a hit we added
  it again.  The show is at 7:00 pm.  We will be having dinner prior to the
  match.
DTSTART;TZID=America/New_York:20190518T163000
DTEND;TZID=America/New_York:20190518T223000
LOCATION:Taunton VFW
SUMMARY:Taunton Local Wrestling
END:VEVENT
END:VCALENDAR
