BEGIN:VCALENDAR
VERSION:2.0
PRODID:-//www.arcnbc.org//NONSGML kigkonsult.se iCalcreator 2.30.10//
CALSCALE:GREGORIAN
METHOD:PUBLISH
UID:a1ce5d33-6362-4365-b0fb-0b08182420c7
X-WR-CALDESC:We will be singing our hearts out!! This is a chance for every
 one to get their inner stars out!  Everyone can pick a song of their choic
 e\, and sing along to the lyrics.  We will also be providing light snacks 
 and drinks for everyone.
X-WR-RELCALID:d065c9caa46883eddfa220002a7d8625
X-WR-TIMEZONE:America/New_York
BEGIN:VTIMEZONE
TZID:America/New_York
BEGIN:STANDARD
TZNAME:EST
DTSTART:20181104T020000
TZOFFSETFROM:-0400
TZOFFSETTO:-0500
RDATE:20191103T020000
RDATE:20201101T020000
END:STANDARD
BEGIN:DAYLIGHT
TZNAME:EDT
DTSTART:20190310T020000
TZOFFSETFROM:-0500
TZOFFSETTO:-0400
RDATE:20200308T020000
END:DAYLIGHT
END:VTIMEZONE
BEGIN:VEVENT
UID:9cfafbbe-ebe0-48e1-a30f-63320570672d
DTSTAMP:20260423T120039Z
DESCRIPTION:We will be singing our hearts out!! This is a chance for everyo
 ne to get their inner stars out!  Everyone can pick a song of their choice
 \, and sing along to the lyrics.  We will also be providing light snacks a
 nd drinks for everyone.
DTSTART;TZID=America/New_York:20190520T180000
DTEND;TZID=America/New_York:20190520T210000
LOCATION:proAbility Smithfield\, RI
SUMMARY:Karaoke Night
END:VEVENT
END:VCALENDAR
