BEGIN:VCALENDAR
VERSION:2.0
PRODID:-//www.arcnbc.org//NONSGML kigkonsult.se iCalcreator 2.30.10//
CALSCALE:GREGORIAN
METHOD:PUBLISH
UID:1eee996a-862d-4232-935d-768bd4de149c
X-WR-CALDESC:Weekly Bowling event.
X-WR-RELCALID:5a002b17edf9537c4adc5b37b3b001fd
X-WR-TIMEZONE:America/New_York
BEGIN:VTIMEZONE
TZID:America/New_York
BEGIN:STANDARD
TZNAME:EST
DTSTART:20181104T020000
TZOFFSETFROM:-0400
TZOFFSETTO:-0500
RDATE:20191103T020000
RDATE:20201101T020000
END:STANDARD
BEGIN:DAYLIGHT
TZNAME:EDT
DTSTART:20190310T020000
TZOFFSETFROM:-0500
TZOFFSETTO:-0400
RDATE:20200308T020000
END:DAYLIGHT
END:VTIMEZONE
BEGIN:VEVENT
UID:9c92a82c-b22b-4b22-93f0-35f9810e80ec
DTSTAMP:20260423T120224Z
DESCRIPTION:Weekly Bowling event.
DTSTART;TZID=America/New_York:20190521T180000
DTEND;TZID=America/New_York:20190521T200000
LOCATION:East Providence Lanes
SUMMARY:Bowling
END:VEVENT
END:VCALENDAR
