BEGIN:VCALENDAR
VERSION:2.0
PRODID:-//www.arcnbc.org//NONSGML kigkonsult.se iCalcreator 2.30.10//
CALSCALE:GREGORIAN
METHOD:PUBLISH
UID:6448f206-53ad-4fc2-99b3-af15815ec660
X-WR-CALDESC:
X-WR-RELCALID:51bdd6a6a50c4f297931dfbf28759928
X-WR-TIMEZONE:America/New_York
BEGIN:VTIMEZONE
TZID:America/New_York
BEGIN:STANDARD
TZNAME:EST
DTSTART:20181104T020000
TZOFFSETFROM:-0400
TZOFFSETTO:-0500
RDATE:20191103T020000
RDATE:20201101T020000
END:STANDARD
BEGIN:DAYLIGHT
TZNAME:EDT
DTSTART:20190310T020000
TZOFFSETFROM:-0500
TZOFFSETTO:-0400
RDATE:20200308T020000
END:DAYLIGHT
END:VTIMEZONE
BEGIN:VEVENT
UID:78d55481-0bf2-4744-89de-5e2afa7b0627
DTSTAMP:20260423T120632Z
DESCRIPTION:
DTSTART;TZID=America/New_York:20190522T090000
DTEND;TZID=America/New_York:20190522T150000
LOCATION:
SUMMARY:Safety Care Day One
END:VEVENT
END:VCALENDAR
