BEGIN:VCALENDAR
VERSION:2.0
PRODID:-//www.arcnbc.org//NONSGML kigkonsult.se iCalcreator 2.30.10//
CALSCALE:GREGORIAN
METHOD:PUBLISH
UID:04f18ed6-7715-433c-a783-8aaae8b001fd
X-WR-CALDESC:We will be having a (Pre-) Memorial Day cook out.    There wil
 l be food on the grill\, drinks to cool off\, plenty of games and of cours
 e dancing.  A great way to kick off the summer !
X-WR-RELCALID:6a1b8fffc40de394bb7cd13f40157ab2
X-WR-TIMEZONE:America/New_York
BEGIN:VTIMEZONE
TZID:America/New_York
BEGIN:STANDARD
TZNAME:EST
DTSTART:20181104T020000
TZOFFSETFROM:-0400
TZOFFSETTO:-0500
RDATE:20191103T020000
RDATE:20201101T020000
END:STANDARD
BEGIN:DAYLIGHT
TZNAME:EDT
DTSTART:20190310T020000
TZOFFSETFROM:-0500
TZOFFSETTO:-0400
RDATE:20200308T020000
END:DAYLIGHT
END:VTIMEZONE
BEGIN:VEVENT
UID:71132866-e229-403a-ad5e-425b6f11fb9f
DTSTAMP:20260423T120955Z
DESCRIPTION:We will be having a (Pre-) Memorial Day cook out.    There will
  be food on the grill\, drinks to cool off\, plenty of games and of course
  dancing.  A great way to kick off the summer !
DTSTART;TZID=America/New_York:20190524T160000
DTEND;TZID=America/New_York:20190524T210000
LOCATION:PACC Smithfield\, RI
SUMMARY:Memorial Day Kick Off Cook out
END:VEVENT
END:VCALENDAR
