BEGIN:VCALENDAR
VERSION:2.0
PRODID:-//www.arcnbc.org//NONSGML kigkonsult.se iCalcreator 2.30.10//
CALSCALE:GREGORIAN
METHOD:PUBLISH
UID:b85ab899-f323-492b-9814-ff1645308755
X-WR-CALDESC:A chance to watch The Red Sox play against the Cleveland India
 ns. We will be eating inside or just out side the park.
X-WR-RELCALID:84817a0b77350b8ae0f7a4a1c7176b03
X-WR-TIMEZONE:America/New_York
BEGIN:VTIMEZONE
TZID:America/New_York
BEGIN:STANDARD
TZNAME:EST
DTSTART:20181104T020000
TZOFFSETFROM:-0400
TZOFFSETTO:-0500
RDATE:20191103T020000
RDATE:20201101T020000
END:STANDARD
BEGIN:DAYLIGHT
TZNAME:EDT
DTSTART:20190310T020000
TZOFFSETFROM:-0500
TZOFFSETTO:-0400
RDATE:20200308T020000
END:DAYLIGHT
END:VTIMEZONE
BEGIN:VEVENT
UID:874621e1-a6e2-466d-9bf9-076813149029
DTSTAMP:20260423T120040Z
DESCRIPTION:A chance to watch The Red Sox play against the Cleveland Indian
 s. We will be eating inside or just out side the park.
DTSTART;TZID=America/New_York:20190528T170000
DTEND;TZID=America/New_York:20190529T000000
LOCATION:Fenway Park\, Boston Ma
SUMMARY:Boston Red Sox
END:VEVENT
END:VCALENDAR
