BEGIN:VCALENDAR
VERSION:2.0
PRODID:-//www.arcnbc.org//NONSGML kigkonsult.se iCalcreator 2.30.10//
CALSCALE:GREGORIAN
METHOD:PUBLISH
UID:4cc90dd6-6ad3-4d8b-aebb-e2ff0620a5a4
X-WR-CALDESC:
X-WR-RELCALID:11230a9e2c24f374b6f38a14c477499f
X-WR-TIMEZONE:America/New_York
BEGIN:VTIMEZONE
TZID:America/New_York
BEGIN:STANDARD
TZNAME:EST
DTSTART:20181104T020000
TZOFFSETFROM:-0400
TZOFFSETTO:-0500
RDATE:20191103T020000
RDATE:20201101T020000
END:STANDARD
BEGIN:DAYLIGHT
TZNAME:EDT
DTSTART:20190310T020000
TZOFFSETFROM:-0500
TZOFFSETTO:-0400
RDATE:20200308T020000
END:DAYLIGHT
END:VTIMEZONE
BEGIN:VEVENT
UID:90172124-6f4d-4aaa-a43d-f858b81ca560
DTSTAMP:20260423T115921Z
DESCRIPTION:
DTSTART;TZID=America/New_York:20190529T090000
DTEND;TZID=America/New_York:20190529T150000
LOCATION:412 B County Street\, New Bedford\, MA
SUMMARY:First Aid/CPR
END:VEVENT
END:VCALENDAR
