BEGIN:VCALENDAR
VERSION:2.0
PRODID:-//www.arcnbc.org//NONSGML kigkonsult.se iCalcreator 2.30.10//
CALSCALE:GREGORIAN
METHOD:PUBLISH
UID:7023da44-986d-451f-be3f-9467d3438ba6
X-WR-CALDESC:
X-WR-RELCALID:25970b340fb9c0257c4a1c8ed8a8e2a6
X-WR-TIMEZONE:America/New_York
BEGIN:VTIMEZONE
TZID:America/New_York
BEGIN:STANDARD
TZNAME:EST
DTSTART:20181104T020000
TZOFFSETFROM:-0400
TZOFFSETTO:-0500
RDATE:20191103T020000
RDATE:20201101T020000
END:STANDARD
BEGIN:DAYLIGHT
TZNAME:EDT
DTSTART:20190310T020000
TZOFFSETFROM:-0500
TZOFFSETTO:-0400
RDATE:20200308T020000
END:DAYLIGHT
END:VTIMEZONE
BEGIN:VEVENT
UID:f45079d7-1796-4116-81a8-8718e00bd807
DTSTAMP:20260423T120537Z
DESCRIPTION:
DTSTART;TZID=America/New_York:20190608T090000
DTEND;TZID=America/New_York:20190608T150000
LOCATION:16 Hillside Avenue\, Attleboro\, MA
SUMMARY:Safety Care Day One
END:VEVENT
END:VCALENDAR
