BEGIN:VCALENDAR
VERSION:2.0
PRODID:-//www.arcnbc.org//NONSGML kigkonsult.se iCalcreator 2.30.10//
CALSCALE:GREGORIAN
METHOD:PUBLISH
UID:9959a7ec-c666-4b14-80dc-92d5b92005e4
X-WR-CALDESC:This is a two hour cruise on the Boston Harbor.  There will be
  a lunch buffet\, beautiful views of Boston as well as on ship entertainme
 nt.  There will be a DJ and interactive games.
X-WR-RELCALID:e6b6911ad832d3416f22acf3e1cde673
X-WR-TIMEZONE:America/New_York
BEGIN:VTIMEZONE
TZID:America/New_York
BEGIN:STANDARD
TZNAME:EST
DTSTART:20181104T020000
TZOFFSETFROM:-0400
TZOFFSETTO:-0500
RDATE:20191103T020000
RDATE:20201101T020000
END:STANDARD
BEGIN:DAYLIGHT
TZNAME:EDT
DTSTART:20190310T020000
TZOFFSETFROM:-0500
TZOFFSETTO:-0400
RDATE:20200308T020000
END:DAYLIGHT
END:VTIMEZONE
BEGIN:VEVENT
UID:0b572c2b-aa82-4568-966e-94a48a21fdf5
DTSTAMP:20260423T120223Z
DESCRIPTION:This is a two hour cruise on the Boston Harbor.  There will be 
 a lunch buffet\, beautiful views of Boston as well as on ship entertainmen
 t.  There will be a DJ and interactive games.
DTSTART;TZID=America/New_York:20190608T113000
DTEND;TZID=America/New_York:20190608T160000
LOCATION:Boston Harbor
SUMMARY:Skyline Cruise & Lunch
END:VEVENT
END:VCALENDAR
