BEGIN:VCALENDAR
VERSION:2.0
PRODID:-//www.arcnbc.org//NONSGML kigkonsult.se iCalcreator 2.30.10//
CALSCALE:GREGORIAN
METHOD:PUBLISH
UID:00378ad4-bf65-43e9-b0d6-0adf172e48a1
X-WR-CALDESC:Weekly softball event.
X-WR-RELCALID:12baa21e740f45d24385c32375ad8a1a
X-WR-TIMEZONE:America/New_York
BEGIN:VTIMEZONE
TZID:America/New_York
BEGIN:STANDARD
TZNAME:EST
DTSTART:20181104T020000
TZOFFSETFROM:-0400
TZOFFSETTO:-0500
RDATE:20191103T020000
RDATE:20201101T020000
END:STANDARD
BEGIN:DAYLIGHT
TZNAME:EDT
DTSTART:20190310T020000
TZOFFSETFROM:-0500
TZOFFSETTO:-0400
RDATE:20200308T020000
END:DAYLIGHT
END:VTIMEZONE
BEGIN:VEVENT
UID:fd4b599d-19af-45c2-b9f6-a890160855da
DTSTAMP:20260423T120252Z
DESCRIPTION:Weekly softball event.
DTSTART;TZID=America/New_York:20190611T180000
DTEND;TZID=America/New_York:20190611T200000
LOCATION:Finberg Field
SUMMARY:Softball
END:VEVENT
END:VCALENDAR
