BEGIN:VCALENDAR
VERSION:2.0
PRODID:-//www.arcnbc.org//NONSGML kigkonsult.se iCalcreator 2.30.10//
CALSCALE:GREGORIAN
METHOD:PUBLISH
UID:46eb9966-c4c9-4860-a0a8-45700c1317a9
X-WR-CALDESC:Weekly Softball
X-WR-RELCALID:21d843b4e082420468c064d050da4d70
X-WR-TIMEZONE:America/New_York
BEGIN:VTIMEZONE
TZID:America/New_York
BEGIN:STANDARD
TZNAME:EST
DTSTART:20181104T020000
TZOFFSETFROM:-0400
TZOFFSETTO:-0500
RDATE:20191103T020000
RDATE:20201101T020000
END:STANDARD
BEGIN:DAYLIGHT
TZNAME:EDT
DTSTART:20190310T020000
TZOFFSETFROM:-0500
TZOFFSETTO:-0400
RDATE:20200308T020000
END:DAYLIGHT
END:VTIMEZONE
BEGIN:VEVENT
UID:6c88c400-437c-4221-8d78-93a44eadaba6
DTSTAMP:20260423T120401Z
DESCRIPTION:Weekly Softball
DTSTART;TZID=America/New_York:20190618T193000
DTEND;TZID=America/New_York:20190618T203000
LOCATION:Finberg Field
SUMMARY:Softball
END:VEVENT
END:VCALENDAR
