BEGIN:VCALENDAR
VERSION:2.0
PRODID:-//www.arcnbc.org//NONSGML kigkonsult.se iCalcreator 2.30.10//
CALSCALE:GREGORIAN
METHOD:PUBLISH
UID:68a5e397-430c-4e44-8e04-cf182ef57430
X-WR-CALDESC:
X-WR-RELCALID:a26ce56cef4b03e722cb59033e603a15
X-WR-TIMEZONE:America/New_York
BEGIN:VTIMEZONE
TZID:America/New_York
BEGIN:STANDARD
TZNAME:EST
DTSTART:20181104T020000
TZOFFSETFROM:-0400
TZOFFSETTO:-0500
RDATE:20191103T020000
RDATE:20201101T020000
END:STANDARD
BEGIN:DAYLIGHT
TZNAME:EDT
DTSTART:20190310T020000
TZOFFSETFROM:-0500
TZOFFSETTO:-0400
RDATE:20200308T020000
END:DAYLIGHT
END:VTIMEZONE
BEGIN:VEVENT
UID:4c943f3b-55d1-4f31-96c1-4fa4a74a8a3b
DTSTAMP:20260423T115920Z
DESCRIPTION:
DTSTART;TZID=America/New_York:20190619T090000
DTEND;TZID=America/New_York:20190619T150000
LOCATION:16 Hillside Avenue\, Attleboro\, MA
SUMMARY:Orientation
END:VEVENT
END:VCALENDAR
