BEGIN:VCALENDAR
VERSION:2.0
PRODID:-//www.arcnbc.org//NONSGML kigkonsult.se iCalcreator 2.30.10//
CALSCALE:GREGORIAN
METHOD:PUBLISH
UID:a1ea9b56-22ef-40e8-90f3-d5b331738ece
X-WR-CALDESC:
X-WR-RELCALID:c71bf4e4ec66b93996221fb434192b0a
X-WR-TIMEZONE:America/New_York
BEGIN:VTIMEZONE
TZID:America/New_York
BEGIN:STANDARD
TZNAME:EST
DTSTART:20181104T020000
TZOFFSETFROM:-0400
TZOFFSETTO:-0500
RDATE:20191103T020000
RDATE:20201101T020000
END:STANDARD
BEGIN:DAYLIGHT
TZNAME:EDT
DTSTART:20190310T020000
TZOFFSETFROM:-0500
TZOFFSETTO:-0400
RDATE:20200308T020000
END:DAYLIGHT
END:VTIMEZONE
BEGIN:VEVENT
UID:c9fa40db-05ea-422b-9590-423e71224461
DTSTAMP:20260423T120554Z
DESCRIPTION:
DTSTART;TZID=America/New_York:20190625T090000
DTEND;TZID=America/New_York:20190625T150000
LOCATION:16 Hillside Avenue\, Attleboro\, MA
SUMMARY:Safety Care Day One
END:VEVENT
END:VCALENDAR
