BEGIN:VCALENDAR
VERSION:2.0
PRODID:-//www.arcnbc.org//NONSGML kigkonsult.se iCalcreator 2.30.10//
CALSCALE:GREGORIAN
METHOD:PUBLISH
UID:6d7ec73e-e536-4d97-a6ac-25268e005d1c
X-WR-CALDESC:
X-WR-RELCALID:bed14281b5e043b606223f7c28687240
X-WR-TIMEZONE:America/New_York
BEGIN:VTIMEZONE
TZID:America/New_York
BEGIN:STANDARD
TZNAME:EST
DTSTART:20181104T020000
TZOFFSETFROM:-0400
TZOFFSETTO:-0500
RDATE:20191103T020000
RDATE:20201101T020000
END:STANDARD
BEGIN:DAYLIGHT
TZNAME:EDT
DTSTART:20190310T020000
TZOFFSETFROM:-0500
TZOFFSETTO:-0400
RDATE:20200308T020000
END:DAYLIGHT
END:VTIMEZONE
BEGIN:VEVENT
UID:a3e118e5-5fed-4777-bb1b-fab33a134a09
DTSTAMP:20260423T120401Z
DESCRIPTION:
DTSTART;TZID=America/New_York:20190626T090000
DTEND;TZID=America/New_York:20190626T150000
LOCATION:16 Hillside Avenue\, Attleboro\, MA
SUMMARY:Safety Care Day Two
END:VEVENT
END:VCALENDAR
