BEGIN:VCALENDAR
VERSION:2.0
PRODID:-//www.arcnbc.org//NONSGML kigkonsult.se iCalcreator 2.30.10//
CALSCALE:GREGORIAN
METHOD:PUBLISH
UID:a43a3502-e76e-4e1a-88db-beedb31888d4
X-WR-CALDESC:Weekly Softball
X-WR-RELCALID:0a92df9458ebf07db9fa2d8dd2a294f9
X-WR-TIMEZONE:America/New_York
BEGIN:VTIMEZONE
TZID:America/New_York
BEGIN:STANDARD
TZNAME:EST
DTSTART:20181104T020000
TZOFFSETFROM:-0400
TZOFFSETTO:-0500
RDATE:20191103T020000
RDATE:20201101T020000
END:STANDARD
BEGIN:DAYLIGHT
TZNAME:EDT
DTSTART:20190310T020000
TZOFFSETFROM:-0500
TZOFFSETTO:-0400
RDATE:20200308T020000
END:DAYLIGHT
END:VTIMEZONE
BEGIN:VEVENT
UID:9d66ed53-9dca-40db-9ff0-2ff651a62a5e
DTSTAMP:20260423T120826Z
DESCRIPTION:Weekly Softball
DTSTART;TZID=America/New_York:20190702T193000
DTEND;TZID=America/New_York:20190702T203000
LOCATION:Finberg Field
SUMMARY:Softball
END:VEVENT
END:VCALENDAR
