BEGIN:VCALENDAR
VERSION:2.0
PRODID:-//www.arcnbc.org//NONSGML kigkonsult.se iCalcreator 2.30.10//
CALSCALE:GREGORIAN
METHOD:PUBLISH
UID:2552adeb-59b6-4e52-b421-60e24ae5838f
X-WR-CALDESC:
X-WR-RELCALID:58164f9fc849adf5c6b248fd5f1a5648
X-WR-TIMEZONE:America/New_York
BEGIN:VTIMEZONE
TZID:America/New_York
BEGIN:STANDARD
TZNAME:EST
DTSTART:20181104T020000
TZOFFSETFROM:-0400
TZOFFSETTO:-0500
RDATE:20191103T020000
RDATE:20201101T020000
END:STANDARD
BEGIN:DAYLIGHT
TZNAME:EDT
DTSTART:20190310T020000
TZOFFSETFROM:-0500
TZOFFSETTO:-0400
RDATE:20200308T020000
END:DAYLIGHT
END:VTIMEZONE
BEGIN:VEVENT
UID:8e9fd42d-1ea8-4b32-9e37-67da895abd03
DTSTAMP:20260423T115751Z
DESCRIPTION:
DTSTART;TZID=America/New_York:20190710T090000
DTEND;TZID=America/New_York:20190710T150000
LOCATION:16 Hillside Avenue\, Attleboro\, MA
SUMMARY:Orientation
END:VEVENT
END:VCALENDAR
