BEGIN:VCALENDAR
VERSION:2.0
PRODID:-//www.arcnbc.org//NONSGML kigkonsult.se iCalcreator 2.30.10//
CALSCALE:GREGORIAN
METHOD:PUBLISH
UID:de95ce9c-32bb-4cab-bdf4-bc70bd1041a0
X-WR-CALDESC:
X-WR-RELCALID:3f34bd988237ec29c13e8b36582ccac8
X-WR-TIMEZONE:America/New_York
BEGIN:VTIMEZONE
TZID:America/New_York
BEGIN:STANDARD
TZNAME:EST
DTSTART:20181104T020000
TZOFFSETFROM:-0400
TZOFFSETTO:-0500
RDATE:20191103T020000
RDATE:20201101T020000
END:STANDARD
BEGIN:DAYLIGHT
TZNAME:EDT
DTSTART:20190310T020000
TZOFFSETFROM:-0500
TZOFFSETTO:-0400
RDATE:20200308T020000
END:DAYLIGHT
END:VTIMEZONE
BEGIN:VEVENT
UID:89b52e60-d5c5-4c57-a22d-83906a0caf8f
DTSTAMP:20260423T120556Z
DESCRIPTION:
DTSTART;TZID=America/New_York:20190711T000000
DTEND;TZID=America/New_York:20190711T150000
LOCATION:16 Hillside Avenue\, Attleboro\, MA
SUMMARY:Safety Care Day One
END:VEVENT
END:VCALENDAR
