BEGIN:VCALENDAR
VERSION:2.0
PRODID:-//www.arcnbc.org//NONSGML kigkonsult.se iCalcreator 2.30.10//
CALSCALE:GREGORIAN
METHOD:PUBLISH
UID:882e1c6c-26cd-4b4e-b77b-1619beb73693
X-WR-CALDESC:
X-WR-RELCALID:65d0d53f6027cfffbc3872bd814e72e8
X-WR-TIMEZONE:America/New_York
BEGIN:VTIMEZONE
TZID:America/New_York
BEGIN:STANDARD
TZNAME:EST
DTSTART:20181104T020000
TZOFFSETFROM:-0400
TZOFFSETTO:-0500
RDATE:20191103T020000
RDATE:20201101T020000
END:STANDARD
BEGIN:DAYLIGHT
TZNAME:EDT
DTSTART:20190310T020000
TZOFFSETFROM:-0500
TZOFFSETTO:-0400
RDATE:20200308T020000
END:DAYLIGHT
END:VTIMEZONE
BEGIN:VEVENT
UID:8bc9d7ab-cebb-486b-8bd2-f978df6e1227
DTSTAMP:20260423T120400Z
DESCRIPTION:
DTSTART;TZID=America/New_York:20190712T090000
DTEND;TZID=America/New_York:20190712T150000
LOCATION:16 Hillside Avenue\, Attleboro\, MA
SUMMARY:Safety Care Day Two
END:VEVENT
END:VCALENDAR
