BEGIN:VCALENDAR
VERSION:2.0
PRODID:-//www.arcnbc.org//NONSGML kigkonsult.se iCalcreator 2.30.10//
CALSCALE:GREGORIAN
METHOD:PUBLISH
UID:c36e46d6-0126-4d77-ba0d-e8573740c386
X-WR-CALDESC:Annual Arc Strong 5k Run\, Walk & Roll with added Family Fun D
 ay in celebration of The Arc's 60th Anniversary. More details to come!
X-WR-RELCALID:b364043a72462b433cbb6205b2b44553
X-WR-TIMEZONE:America/New_York
BEGIN:VTIMEZONE
TZID:America/New_York
BEGIN:STANDARD
TZNAME:EST
DTSTART:20181104T020000
TZOFFSETFROM:-0400
TZOFFSETTO:-0500
RDATE:20191103T020000
RDATE:20201101T020000
END:STANDARD
BEGIN:DAYLIGHT
TZNAME:EDT
DTSTART:20190310T020000
TZOFFSETFROM:-0500
TZOFFSETTO:-0400
RDATE:20200308T020000
END:DAYLIGHT
END:VTIMEZONE
BEGIN:VEVENT
UID:3200b337-7ba0-4202-8346-e8586245495e
DTSTAMP:20260423T121048Z
DESCRIPTION:Annual Arc Strong 5k Run\, Walk & Roll with added Family Fun Da
 y in celebration of The Arc's 60th Anniversary. More details to come!
DTSTART;TZID=America/New_York:20190714T080000
DTEND;TZID=America/New_York:20190714T150000
LOCATION:Holiday Inn Taunton
SUMMARY:Arc Strong Run\, Walk & Roll and Family Fun Day
END:VEVENT
END:VCALENDAR
