BEGIN:VCALENDAR
VERSION:2.0
PRODID:-//www.arcnbc.org//NONSGML kigkonsult.se iCalcreator 2.30.10//
CALSCALE:GREGORIAN
METHOD:PUBLISH
UID:1c6571e2-ee18-459f-b12c-4a7cec276144
X-WR-CALDESC:Weekly Softball
X-WR-RELCALID:18ca8c86912e36599af684d1ba14559f
X-WR-TIMEZONE:America/New_York
BEGIN:VTIMEZONE
TZID:America/New_York
BEGIN:STANDARD
TZNAME:EST
DTSTART:20181104T020000
TZOFFSETFROM:-0400
TZOFFSETTO:-0500
RDATE:20191103T020000
RDATE:20201101T020000
END:STANDARD
BEGIN:DAYLIGHT
TZNAME:EDT
DTSTART:20190310T020000
TZOFFSETFROM:-0500
TZOFFSETTO:-0400
RDATE:20200308T020000
END:DAYLIGHT
END:VTIMEZONE
BEGIN:VEVENT
UID:584a1f6b-b351-48e1-aa25-67802d9a8d7b
DTSTAMP:20260423T120539Z
DESCRIPTION:Weekly Softball
DTSTART;TZID=America/New_York:20190723T193000
DTEND;TZID=America/New_York:20190723T203000
LOCATION:Finberg Field
SUMMARY:Softball
END:VEVENT
END:VCALENDAR
