BEGIN:VCALENDAR
VERSION:2.0
PRODID:-//www.arcnbc.org//NONSGML kigkonsult.se iCalcreator 2.30.10//
CALSCALE:GREGORIAN
METHOD:PUBLISH
UID:62cb2e3e-51d8-46c5-91ac-d54747b70821
X-WR-CALDESC:
X-WR-RELCALID:562c684e5d6e38d8af8a16c39f66ce06
X-WR-TIMEZONE:America/New_York
BEGIN:VTIMEZONE
TZID:America/New_York
BEGIN:STANDARD
TZNAME:EST
DTSTART:20181104T020000
TZOFFSETFROM:-0400
TZOFFSETTO:-0500
RDATE:20191103T020000
RDATE:20201101T020000
END:STANDARD
BEGIN:DAYLIGHT
TZNAME:EDT
DTSTART:20190310T020000
TZOFFSETFROM:-0500
TZOFFSETTO:-0400
RDATE:20200308T020000
END:DAYLIGHT
END:VTIMEZONE
BEGIN:VEVENT
UID:549c5c8d-52a9-4731-8a26-e16a9955bb68
DTSTAMP:20260423T120448Z
DESCRIPTION:
DTSTART;TZID=America/New_York:20190724T090000
DTEND;TZID=America/New_York:20190724T150000
LOCATION:16 Hillside Avenue\, Attleboro\, MA
SUMMARY:Safety Care Day Two
END:VEVENT
END:VCALENDAR
