BEGIN:VCALENDAR
VERSION:2.0
PRODID:-//www.arcnbc.org//NONSGML kigkonsult.se iCalcreator 2.30.10//
CALSCALE:GREGORIAN
METHOD:PUBLISH
UID:7a5d6968-78ea-4279-a8b4-a32aebdefffa
X-WR-CALDESC:Weekly Softball
X-WR-RELCALID:a05fe6ceb9a82f923f3906d7ac62a1d7
X-WR-TIMEZONE:America/New_York
BEGIN:VTIMEZONE
TZID:America/New_York
BEGIN:STANDARD
TZNAME:EST
DTSTART:20181104T020000
TZOFFSETFROM:-0400
TZOFFSETTO:-0500
RDATE:20191103T020000
RDATE:20201101T020000
END:STANDARD
BEGIN:DAYLIGHT
TZNAME:EDT
DTSTART:20190310T020000
TZOFFSETFROM:-0500
TZOFFSETTO:-0400
RDATE:20200308T020000
END:DAYLIGHT
END:VTIMEZONE
BEGIN:VEVENT
UID:5d4f64cb-479c-43b7-b95c-f2df6b01373b
DTSTAMP:20260423T120401Z
DESCRIPTION:Weekly Softball
DTSTART;TZID=America/New_York:20190730T193000
DTEND;TZID=America/New_York:20190730T203000
LOCATION:Finberg Field
SUMMARY:Softball
END:VEVENT
END:VCALENDAR
