BEGIN:VCALENDAR
VERSION:2.0
PRODID:-//www.arcnbc.org//NONSGML kigkonsult.se iCalcreator 2.30.10//
CALSCALE:GREGORIAN
METHOD:PUBLISH
UID:b80d84e4-7445-43e0-92c4-3b3dc56f2dc6
X-WR-CALDESC:
X-WR-RELCALID:28e89981a6ef40b280248acbf2d689bb
X-WR-TIMEZONE:America/New_York
BEGIN:VTIMEZONE
TZID:America/New_York
BEGIN:STANDARD
TZNAME:EST
DTSTART:20181104T020000
TZOFFSETFROM:-0400
TZOFFSETTO:-0500
RDATE:20191103T020000
RDATE:20201101T020000
END:STANDARD
BEGIN:DAYLIGHT
TZNAME:EDT
DTSTART:20190310T020000
TZOFFSETFROM:-0500
TZOFFSETTO:-0400
RDATE:20200308T020000
END:DAYLIGHT
END:VTIMEZONE
BEGIN:VEVENT
UID:e3353bf9-7b36-448a-a045-dad14cb5d0d9
DTSTAMP:20260423T115757Z
DESCRIPTION:
DTSTART;TZID=America/New_York:20190806T090000
DTEND;TZID=America/New_York:20190806T150000
LOCATION:16 Hillside Avenue\, Attleboro\, MA
SUMMARY:Orientation
END:VEVENT
END:VCALENDAR
