BEGIN:VCALENDAR
VERSION:2.0
PRODID:-//www.arcnbc.org//NONSGML kigkonsult.se iCalcreator 2.30.10//
CALSCALE:GREGORIAN
METHOD:PUBLISH
UID:14945462-9f71-4cdf-8519-df12eb06882e
X-WR-CALDESC:
X-WR-RELCALID:9d0ab8844744ce47a8ac075e436ba3b0
X-WR-TIMEZONE:America/New_York
BEGIN:VTIMEZONE
TZID:America/New_York
BEGIN:STANDARD
TZNAME:EST
DTSTART:20181104T020000
TZOFFSETFROM:-0400
TZOFFSETTO:-0500
RDATE:20191103T020000
RDATE:20201101T020000
END:STANDARD
BEGIN:DAYLIGHT
TZNAME:EDT
DTSTART:20190310T020000
TZOFFSETFROM:-0500
TZOFFSETTO:-0400
RDATE:20200308T020000
END:DAYLIGHT
END:VTIMEZONE
BEGIN:VEVENT
UID:fce835e1-c8e6-4102-a59e-6bfe43341610
DTSTAMP:20260423T115920Z
DESCRIPTION:
DTSTART;TZID=America/New_York:20190807T150000
DTEND;TZID=America/New_York:20190807T210000
LOCATION:16 Hillside Avenue\, Attleboro\, MA
SUMMARY:First Aid/CPR
END:VEVENT
END:VCALENDAR
