BEGIN:VCALENDAR
VERSION:2.0
PRODID:-//www.arcnbc.org//NONSGML kigkonsult.se iCalcreator 2.30.10//
CALSCALE:GREGORIAN
METHOD:PUBLISH
UID:4ee28d9d-ff1d-4432-9687-b56c1f3a7d9b
X-WR-CALDESC:See Rec Calendar for details or call Danielle
X-WR-RELCALID:c67b083a1bd01d9370fdc276ca4f04c0
X-WR-TIMEZONE:America/New_York
BEGIN:VTIMEZONE
TZID:America/New_York
BEGIN:STANDARD
TZNAME:EST
DTSTART:20181104T020000
TZOFFSETFROM:-0400
TZOFFSETTO:-0500
RDATE:20191103T020000
RDATE:20201101T020000
END:STANDARD
BEGIN:DAYLIGHT
TZNAME:EDT
DTSTART:20190310T020000
TZOFFSETFROM:-0500
TZOFFSETTO:-0400
RDATE:20200308T020000
END:DAYLIGHT
END:VTIMEZONE
BEGIN:VEVENT
UID:4d2cbdeb-e61a-4c07-8aeb-ec631607e3fd
DTSTAMP:20260423T120225Z
DESCRIPTION:See Rec Calendar for details or call Danielle
DTSTART;TZID=America/New_York:20190809T080000
DTEND;TZID=America/New_York:20190809T200000
LOCATION:Bloom Bus Tours Conn.
SUMMARY:Rail & Sail Connecticut
END:VEVENT
END:VCALENDAR
