BEGIN:VCALENDAR
VERSION:2.0
PRODID:-//www.arcnbc.org//NONSGML kigkonsult.se iCalcreator 2.30.10//
CALSCALE:GREGORIAN
METHOD:PUBLISH
UID:de0b9f97-ef2e-4d64-94f5-a749f9c980c6
X-WR-CALDESC:
X-WR-RELCALID:8ed610c2822644d1e549baaa2bf61462
X-WR-TIMEZONE:America/New_York
BEGIN:VTIMEZONE
TZID:America/New_York
BEGIN:STANDARD
TZNAME:EST
DTSTART:20181104T020000
TZOFFSETFROM:-0400
TZOFFSETTO:-0500
RDATE:20191103T020000
RDATE:20201101T020000
END:STANDARD
BEGIN:DAYLIGHT
TZNAME:EDT
DTSTART:20190310T020000
TZOFFSETFROM:-0500
TZOFFSETTO:-0400
RDATE:20200308T020000
END:DAYLIGHT
END:VTIMEZONE
BEGIN:VEVENT
UID:8c5940f2-716d-49da-a76d-72203f5b4a8b
DTSTAMP:20260423T120352Z
DESCRIPTION:
DTSTART;TZID=America/New_York:20190810T090000
DTEND;TZID=America/New_York:20190810T150000
LOCATION:16 Hillside Avenue\, Attleboro\, MA
SUMMARY:Safety Care Day Two
END:VEVENT
END:VCALENDAR
