BEGIN:VCALENDAR
VERSION:2.0
PRODID:-//www.arcnbc.org//NONSGML kigkonsult.se iCalcreator 2.30.10//
CALSCALE:GREGORIAN
METHOD:PUBLISH
UID:835b577b-2617-41a6-98d9-7b08ac65dee1
X-WR-CALDESC:This is an opportunity for Rec members to get together to disc
 uss upcoming and past Rec events.  Also\, some activities they would like 
 to see on the Rec calendars.  We also discuss advocacy\,  barriers and how
  to move past those barriers.   This is a cost free event for all.
X-WR-RELCALID:8bf4456e0326bc0dac3484602589f570
X-WR-TIMEZONE:America/New_York
BEGIN:VTIMEZONE
TZID:America/New_York
BEGIN:STANDARD
TZNAME:EST
DTSTART:20181104T020000
TZOFFSETFROM:-0400
TZOFFSETTO:-0500
RDATE:20191103T020000
RDATE:20201101T020000
END:STANDARD
BEGIN:DAYLIGHT
TZNAME:EDT
DTSTART:20190310T020000
TZOFFSETFROM:-0500
TZOFFSETTO:-0400
RDATE:20200308T020000
END:DAYLIGHT
END:VTIMEZONE
BEGIN:VEVENT
UID:994b7000-cecd-4796-ad89-756766e7b526
DTSTAMP:20260423T120238Z
DESCRIPTION:This is an opportunity for Rec members to get together to discu
 ss upcoming and past Rec events.  Also\, some activities they would like t
 o see on the Rec calendars.  We also discuss advocacy\,  barriers and how 
 to move past those barriers.   This is a cost free event for all.
DTSTART;TZID=America/New_York:20190815T153000
DTEND;TZID=America/New_York:20190815T173000
LOCATION:141 Park St Attleboro
SUMMARY:Self Advocacy & Dinner
END:VEVENT
END:VCALENDAR
