BEGIN:VCALENDAR
VERSION:2.0
PRODID:-//www.arcnbc.org//NONSGML kigkonsult.se iCalcreator 2.30.10//
CALSCALE:GREGORIAN
METHOD:PUBLISH
UID:9486cd3e-f151-4a32-8051-d6fd8dc40441
X-WR-CALDESC:
X-WR-RELCALID:fd180a884a51b78f3ee1d5ec1e138b60
X-WR-TIMEZONE:America/New_York
BEGIN:VTIMEZONE
TZID:America/New_York
BEGIN:STANDARD
TZNAME:EST
DTSTART:20181104T020000
TZOFFSETFROM:-0400
TZOFFSETTO:-0500
RDATE:20191103T020000
RDATE:20201101T020000
END:STANDARD
BEGIN:DAYLIGHT
TZNAME:EDT
DTSTART:20190310T020000
TZOFFSETFROM:-0500
TZOFFSETTO:-0400
RDATE:20200308T020000
END:DAYLIGHT
END:VTIMEZONE
BEGIN:VEVENT
UID:e2b060a4-e24c-4bc6-b607-2b29681f88cf
DTSTAMP:20260423T120039Z
DESCRIPTION:
DTSTART;TZID=America/New_York:20190817T120000
DTEND;TZID=America/New_York:20190817T160000
LOCATION:Attleboro
SUMMARY:Capron Park Zoo
END:VEVENT
END:VCALENDAR
