BEGIN:VCALENDAR
VERSION:2.0
PRODID:-//www.arcnbc.org//NONSGML kigkonsult.se iCalcreator 2.30.10//
CALSCALE:GREGORIAN
METHOD:PUBLISH
UID:026f96b2-eb07-4271-b03f-9b62826a61fd
X-WR-CALDESC:This will be a day at the lake.  We can swim\, and get on the 
 water slides.  Please wear your swimsuits and sunblock and money for lunch
 .
X-WR-RELCALID:89567fb029d3e95c81e6026de3a5ca4c
X-WR-TIMEZONE:America/New_York
BEGIN:VTIMEZONE
TZID:America/New_York
BEGIN:STANDARD
TZNAME:EST
DTSTART:20181104T020000
TZOFFSETFROM:-0400
TZOFFSETTO:-0500
RDATE:20191103T020000
RDATE:20201101T020000
END:STANDARD
BEGIN:DAYLIGHT
TZNAME:EDT
DTSTART:20190310T020000
TZOFFSETFROM:-0500
TZOFFSETTO:-0400
RDATE:20200308T020000
END:DAYLIGHT
END:VTIMEZONE
BEGIN:VEVENT
UID:06f32339-be6c-4a92-bac5-066cc057f013
DTSTAMP:20260423T120955Z
DESCRIPTION:This will be a day at the lake.  We can swim\, and get on the w
 ater slides.  Please wear your swimsuits and sunblock and money for lunch.
DTSTART;TZID=America/New_York:20190819T100000
DTEND;TZID=America/New_York:20190819T160000
LOCATION:Douglas\, Ma
SUMMARY:Breezy Acres Water slides/Lake
END:VEVENT
END:VCALENDAR
