BEGIN:VCALENDAR
VERSION:2.0
PRODID:-//www.arcnbc.org//NONSGML kigkonsult.se iCalcreator 2.30.10//
CALSCALE:GREGORIAN
METHOD:PUBLISH
UID:483e5ea9-0b30-45c6-a80a-c9e6efb42c65
X-WR-CALDESC:Weekly Softball
X-WR-RELCALID:47173a55dd2500607b0753f7a49c7acf
X-WR-TIMEZONE:America/New_York
BEGIN:VTIMEZONE
TZID:America/New_York
BEGIN:STANDARD
TZNAME:EST
DTSTART:20181104T020000
TZOFFSETFROM:-0400
TZOFFSETTO:-0500
RDATE:20191103T020000
RDATE:20201101T020000
END:STANDARD
BEGIN:DAYLIGHT
TZNAME:EDT
DTSTART:20190310T020000
TZOFFSETFROM:-0500
TZOFFSETTO:-0400
RDATE:20200308T020000
END:DAYLIGHT
END:VTIMEZONE
BEGIN:VEVENT
UID:f45e137b-15e1-41a7-8e3a-dfebbdc2d61a
DTSTAMP:20260423T120956Z
DESCRIPTION:Weekly Softball
DTSTART;TZID=America/New_York:20190820T193000
DTEND;TZID=America/New_York:20190820T203000
LOCATION:Finberg Field
SUMMARY:Softball
END:VEVENT
END:VCALENDAR
