BEGIN:VCALENDAR
VERSION:2.0
PRODID:-//www.arcnbc.org//NONSGML kigkonsult.se iCalcreator 2.30.10//
CALSCALE:GREGORIAN
METHOD:PUBLISH
UID:b1b169e7-de3f-4b38-9acd-e32f9f30778f
X-WR-CALDESC:We will play our last game and have some burgers and dogs for 
 everyone.
X-WR-RELCALID:4b754ec87138b8af6298101e155f2e81
X-WR-TIMEZONE:America/New_York
BEGIN:VTIMEZONE
TZID:America/New_York
BEGIN:STANDARD
TZNAME:EST
DTSTART:20181104T020000
TZOFFSETFROM:-0400
TZOFFSETTO:-0500
RDATE:20191103T020000
RDATE:20201101T020000
END:STANDARD
BEGIN:DAYLIGHT
TZNAME:EDT
DTSTART:20190310T020000
TZOFFSETFROM:-0500
TZOFFSETTO:-0400
RDATE:20200308T020000
END:DAYLIGHT
END:VTIMEZONE
BEGIN:VEVENT
UID:45c5402d-6a47-461d-a570-3b5036d1193a
DTSTAMP:20260423T121048Z
DESCRIPTION:We will play our last game and have some burgers and dogs for e
 veryone.
DTSTART;TZID=America/New_York:20190820T180000
DTEND;TZID=America/New_York:20190820T200000
LOCATION:Finberg Field in Attleboro
SUMMARY:Softball end of season party
END:VEVENT
END:VCALENDAR
