BEGIN:VCALENDAR
VERSION:2.0
PRODID:-//www.arcnbc.org//NONSGML kigkonsult.se iCalcreator 2.30.10//
CALSCALE:GREGORIAN
METHOD:PUBLISH
UID:7fa0ac60-0ef2-4ff5-8cff-df3222f65d6b
X-WR-CALDESC:
X-WR-RELCALID:8fe98aaee394613bef861585fea50eb3
X-WR-TIMEZONE:America/New_York
BEGIN:VTIMEZONE
TZID:America/New_York
BEGIN:STANDARD
TZNAME:EST
DTSTART:20181104T020000
TZOFFSETFROM:-0400
TZOFFSETTO:-0500
RDATE:20191103T020000
RDATE:20201101T020000
END:STANDARD
BEGIN:DAYLIGHT
TZNAME:EDT
DTSTART:20190310T020000
TZOFFSETFROM:-0500
TZOFFSETTO:-0400
RDATE:20200308T020000
END:DAYLIGHT
END:VTIMEZONE
BEGIN:VEVENT
UID:04f0c6ae-2ee6-472e-afc3-2f22c638f751
DTSTAMP:20260423T120223Z
DESCRIPTION:
DTSTART;TZID=America/New_York:20190823T090000
DTEND;TZID=America/New_York:20190823T150000
LOCATION:16 Hillside Avenue\, Attleboro\, MA
SUMMARY:Safety Care Recertification
END:VEVENT
END:VCALENDAR
