BEGIN:VCALENDAR
VERSION:2.0
PRODID:-//www.arcnbc.org//NONSGML kigkonsult.se iCalcreator 2.30.10//
CALSCALE:GREGORIAN
METHOD:PUBLISH
UID:22f8ae19-caa6-4dea-b60f-b0751928b977
X-WR-CALDESC:A day at the fair with rides\, games and good food.  Please br
 ing money for lunch.
X-WR-RELCALID:611f1e233185ea5e9ab5437cd3f7b446
X-WR-TIMEZONE:America/New_York
BEGIN:VTIMEZONE
TZID:America/New_York
BEGIN:STANDARD
TZNAME:EST
DTSTART:20181104T020000
TZOFFSETFROM:-0400
TZOFFSETTO:-0500
RDATE:20191103T020000
RDATE:20201101T020000
END:STANDARD
BEGIN:DAYLIGHT
TZNAME:EDT
DTSTART:20190310T020000
TZOFFSETFROM:-0500
TZOFFSETTO:-0400
RDATE:20200308T020000
END:DAYLIGHT
END:VTIMEZONE
BEGIN:VEVENT
UID:341d6a8a-8a43-4437-a1ae-a31e9bc8d96d
DTSTAMP:20260423T120041Z
DESCRIPTION:A day at the fair with rides\, games and good food.  Please bri
 ng money for lunch.
DTSTART;TZID=America/New_York:20190824T110000
DTEND;TZID=America/New_York:20190824T150000
LOCATION:Marshfield\, Ma
SUMMARY:Marshfield Fair
END:VEVENT
END:VCALENDAR
