BEGIN:VCALENDAR
VERSION:2.0
PRODID:-//www.arcnbc.org//NONSGML kigkonsult.se iCalcreator 2.30.10//
CALSCALE:GREGORIAN
METHOD:PUBLISH
UID:66bc529e-3c91-4d09-874b-d126c7a95dc4
X-WR-CALDESC:
X-WR-RELCALID:76737e219b35a478576b8cd24bb472e2
X-WR-TIMEZONE:America/New_York
BEGIN:VTIMEZONE
TZID:America/New_York
BEGIN:STANDARD
TZNAME:EST
DTSTART:20181104T020000
TZOFFSETFROM:-0400
TZOFFSETTO:-0500
RDATE:20191103T020000
RDATE:20201101T020000
END:STANDARD
BEGIN:DAYLIGHT
TZNAME:EDT
DTSTART:20190310T020000
TZOFFSETFROM:-0500
TZOFFSETTO:-0400
RDATE:20200308T020000
END:DAYLIGHT
END:VTIMEZONE
BEGIN:VEVENT
UID:fc622cd5-123c-48ab-86fc-48769ecaa371
DTSTAMP:20260423T115853Z
DESCRIPTION:
DTSTART;TZID=America/New_York:20190826T090000
DTEND;TZID=America/New_York:20190826T150000
LOCATION:412 B County Street\, New Bedford\, MA
SUMMARY:First Aid/CPR
END:VEVENT
END:VCALENDAR
