BEGIN:VCALENDAR
VERSION:2.0
PRODID:-//www.arcnbc.org//NONSGML kigkonsult.se iCalcreator 2.30.10//
CALSCALE:GREGORIAN
METHOD:PUBLISH
UID:83082dba-27d1-4a1f-9707-d133bd822de5
X-WR-CALDESC:Lots of good food in the park.  Please bring a chair or blanke
 t to sit on.
X-WR-RELCALID:94e9011fab61db38a9317ac5e631e6cb
X-WR-TIMEZONE:America/New_York
BEGIN:VTIMEZONE
TZID:America/New_York
BEGIN:STANDARD
TZNAME:EST
DTSTART:20181104T020000
TZOFFSETFROM:-0400
TZOFFSETTO:-0500
RDATE:20191103T020000
RDATE:20201101T020000
END:STANDARD
BEGIN:DAYLIGHT
TZNAME:EDT
DTSTART:20190310T020000
TZOFFSETFROM:-0500
TZOFFSETTO:-0400
RDATE:20200308T020000
END:DAYLIGHT
END:VTIMEZONE
BEGIN:VEVENT
UID:6d6600c2-0fde-414b-904f-5c7f66dce0b4
DTSTAMP:20260423T120956Z
DESCRIPTION:Lots of good food in the park.  Please bring a chair or blanket
  to sit on.
DTSTART;TZID=America/New_York:20190830T170000
DTEND;TZID=America/New_York:20190830T210000
LOCATION:Roger Williams Park Cranston\, RI
SUMMARY:Food Truck Friday
END:VEVENT
END:VCALENDAR
