BEGIN:VCALENDAR
VERSION:2.0
PRODID:-//www.arcnbc.org//NONSGML kigkonsult.se iCalcreator 2.30.10//
CALSCALE:GREGORIAN
METHOD:PUBLISH
UID:e5967dbe-b696-403b-8309-6c4bcb90f15f
X-WR-CALDESC:
X-WR-RELCALID:9ed6e1ed2d1727d4456293324957e29b
X-WR-TIMEZONE:America/New_York
BEGIN:VTIMEZONE
TZID:America/New_York
BEGIN:STANDARD
TZNAME:EST
DTSTART:20181104T020000
TZOFFSETFROM:-0400
TZOFFSETTO:-0500
RDATE:20191103T020000
RDATE:20201101T020000
END:STANDARD
BEGIN:DAYLIGHT
TZNAME:EDT
DTSTART:20190310T020000
TZOFFSETFROM:-0500
TZOFFSETTO:-0400
RDATE:20200308T020000
END:DAYLIGHT
END:VTIMEZONE
BEGIN:VEVENT
UID:b1f26ca1-6256-41fb-b29b-da8d1b166ab2
DTSTAMP:20260423T115853Z
DESCRIPTION:
DTSTART;TZID=America/New_York:20190907T090000
DTEND;TZID=America/New_York:20190907T150000
LOCATION:16 Hillside Avenue\, Attleboro\, MA
SUMMARY:First Aid/CPR
END:VEVENT
END:VCALENDAR
