BEGIN:VCALENDAR
VERSION:2.0
PRODID:-//www.arcnbc.org//NONSGML kigkonsult.se iCalcreator 2.30.10//
CALSCALE:GREGORIAN
METHOD:PUBLISH
UID:623e53f7-3f18-4c20-a491-57224c6ac415
X-WR-CALDESC:Unfortunately this trip is full :)
X-WR-RELCALID:a8757684afecd36e95b0720001a6f547
X-WR-TIMEZONE:America/New_York
BEGIN:VTIMEZONE
TZID:America/New_York
BEGIN:STANDARD
TZNAME:EST
DTSTART:20181104T020000
TZOFFSETFROM:-0400
TZOFFSETTO:-0500
RDATE:20191103T020000
RDATE:20201101T020000
END:STANDARD
BEGIN:DAYLIGHT
TZNAME:EDT
DTSTART:20190310T020000
TZOFFSETFROM:-0500
TZOFFSETTO:-0400
RDATE:20200308T020000
END:DAYLIGHT
END:VTIMEZONE
BEGIN:VEVENT
UID:42fe27f9-d773-4726-8065-d78776fb6c09
DTSTAMP:20260423T120710Z
DESCRIPTION:Unfortunately this trip is full :)
DTSTART;TZID=America/New_York:20190909T063000
DTEND;TZID=America/New_York:20190916T220000
LOCATION:Knoxville & Nashville Tennessee
SUMMARY:Trip to Tennessee
END:VEVENT
END:VCALENDAR
