BEGIN:VCALENDAR
VERSION:2.0
PRODID:-//www.arcnbc.org//NONSGML kigkonsult.se iCalcreator 2.30.10//
CALSCALE:GREGORIAN
METHOD:PUBLISH
UID:9934eac0-a987-4f63-8dbf-3911023c6359
X-WR-CALDESC:
X-WR-RELCALID:5f39d332a5e3e6a5e828b951a50df78d
X-WR-TIMEZONE:America/New_York
BEGIN:VTIMEZONE
TZID:America/New_York
BEGIN:STANDARD
TZNAME:EST
DTSTART:20181104T020000
TZOFFSETFROM:-0400
TZOFFSETTO:-0500
RDATE:20191103T020000
RDATE:20201101T020000
END:STANDARD
BEGIN:DAYLIGHT
TZNAME:EDT
DTSTART:20190310T020000
TZOFFSETFROM:-0500
TZOFFSETTO:-0400
RDATE:20200308T020000
RDATE:20210314T020000
END:DAYLIGHT
END:VTIMEZONE
BEGIN:VEVENT
UID:80c13962-c500-4de7-9e29-e260d8bd25c5
DTSTAMP:20260423T115920Z
DESCRIPTION:
DTSTART;TZID=America/New_York:20190918T090000
DTEND;TZID=America/New_York:20190918T150000
LOCATION:412 B County Street\, New Bedford\, MA
SUMMARY:First Aid/CPR
END:VEVENT
END:VCALENDAR
