BEGIN:VCALENDAR
VERSION:2.0
PRODID:-//www.arcnbc.org//NONSGML kigkonsult.se iCalcreator 2.30.10//
CALSCALE:GREGORIAN
METHOD:PUBLISH
UID:d47f4d34-1193-479e-839a-414cd4bebf10
X-WR-CALDESC:This is a show for people from New England that sing\, dance\,
  stand up comedy\, and many more acts.  The audience gets to judge just li
 ke the show on television.
X-WR-RELCALID:c730a607ec634dcd38b56dade0886623
X-WR-TIMEZONE:America/New_York
BEGIN:VTIMEZONE
TZID:America/New_York
BEGIN:STANDARD
TZNAME:EST
DTSTART:20181104T020000
TZOFFSETFROM:-0400
TZOFFSETTO:-0500
RDATE:20191103T020000
RDATE:20201101T020000
END:STANDARD
BEGIN:DAYLIGHT
TZNAME:EDT
DTSTART:20190310T020000
TZOFFSETFROM:-0500
TZOFFSETTO:-0400
RDATE:20200308T020000
RDATE:20210314T020000
END:DAYLIGHT
END:VTIMEZONE
BEGIN:VEVENT
UID:122ed393-594a-442c-9cd9-14f41dc66ba6
DTSTAMP:20260423T120644Z
DESCRIPTION:This is a show for people from New England that sing\, dance\, 
 stand up comedy\, and many more acts.  The audience gets to judge just lik
 e the show on television.
DTSTART;TZID=America/New_York:20190922T140000
DTEND;TZID=America/New_York:20190922T180000
LOCATION:The Stadium Theater Woonsocket\, RI
SUMMARY:New England's Got Talent
END:VEVENT
END:VCALENDAR
