BEGIN:VCALENDAR
VERSION:2.0
PRODID:-//www.arcnbc.org//NONSGML kigkonsult.se iCalcreator 2.30.10//
CALSCALE:GREGORIAN
METHOD:PUBLISH
UID:38a62d30-fae0-449e-b4ee-6f9199ce8499
X-WR-CALDESC:A night of dancing with friends.
X-WR-RELCALID:fdab9f7f23b8231e8f7a572c99512aac
X-WR-TIMEZONE:America/New_York
BEGIN:VTIMEZONE
TZID:America/New_York
BEGIN:STANDARD
TZNAME:EST
DTSTART:20181104T020000
TZOFFSETFROM:-0400
TZOFFSETTO:-0500
RDATE:20191103T020000
RDATE:20201101T020000
END:STANDARD
BEGIN:DAYLIGHT
TZNAME:EDT
DTSTART:20190310T020000
TZOFFSETFROM:-0500
TZOFFSETTO:-0400
RDATE:20200308T020000
RDATE:20210314T020000
END:DAYLIGHT
END:VTIMEZONE
BEGIN:VEVENT
UID:c5defe3e-afcc-4437-848e-89581267aa75
DTSTAMP:20260423T120826Z
DESCRIPTION:A night of dancing with friends.
DTSTART;TZID=America/New_York:20190926T143000
DTEND;TZID=America/New_York:20190926T153000
LOCATION:Taunton Portuguese/American club
SUMMARY:Fran's Dance
END:VEVENT
END:VCALENDAR
