BEGIN:VCALENDAR
VERSION:2.0
PRODID:-//www.arcnbc.org//NONSGML kigkonsult.se iCalcreator 2.30.10//
CALSCALE:GREGORIAN
METHOD:PUBLISH
UID:21cfae9b-091c-48ac-803e-24551f49b8c0
X-WR-CALDESC:
X-WR-RELCALID:9c2fc1ece74b055ba753b3e24189a6dc
X-WR-TIMEZONE:America/New_York
BEGIN:VTIMEZONE
TZID:America/New_York
BEGIN:STANDARD
TZNAME:EST
DTSTART:20181104T020000
TZOFFSETFROM:-0400
TZOFFSETTO:-0500
RDATE:20191103T020000
RDATE:20201101T020000
END:STANDARD
BEGIN:DAYLIGHT
TZNAME:EDT
DTSTART:20190310T020000
TZOFFSETFROM:-0500
TZOFFSETTO:-0400
RDATE:20200308T020000
RDATE:20210314T020000
END:DAYLIGHT
END:VTIMEZONE
BEGIN:VEVENT
UID:2fd0ee13-72e9-4645-8262-7cb789fc36e5
DTSTAMP:20260423T115929Z
DESCRIPTION:
DTSTART;TZID=America/New_York:20191001T090000
DTEND;TZID=America/New_York:20191001T150000
LOCATION:16 Hillside Avenue\, Attleboro\, MA
SUMMARY:First Aid/CPR
END:VEVENT
END:VCALENDAR
