BEGIN:VCALENDAR
VERSION:2.0
PRODID:-//www.arcnbc.org//NONSGML kigkonsult.se iCalcreator 2.30.10//
CALSCALE:GREGORIAN
METHOD:PUBLISH
UID:a5d99a11-79d1-40b7-96b9-76173167e9db
X-WR-CALDESC:
X-WR-RELCALID:f6a53433c53e6b7a64619ad1764135bf
X-WR-TIMEZONE:America/New_York
BEGIN:VTIMEZONE
TZID:America/New_York
BEGIN:STANDARD
TZNAME:EST
DTSTART:20181104T020000
TZOFFSETFROM:-0400
TZOFFSETTO:-0500
RDATE:20191103T020000
RDATE:20201101T020000
END:STANDARD
BEGIN:DAYLIGHT
TZNAME:EDT
DTSTART:20190310T020000
TZOFFSETFROM:-0500
TZOFFSETTO:-0400
RDATE:20200308T020000
RDATE:20210314T020000
END:DAYLIGHT
END:VTIMEZONE
BEGIN:VEVENT
UID:880c846c-7aef-47ef-a9c8-e75be683dde4
DTSTAMP:20260423T120555Z
DESCRIPTION:
DTSTART;TZID=America/New_York:20191003T090000
DTEND;TZID=America/New_York:20191003T150000
LOCATION:16 Hillside Avenue\, Attleboro\, MA
SUMMARY:Safety Care Day One
END:VEVENT
END:VCALENDAR
