BEGIN:VCALENDAR
VERSION:2.0
PRODID:-//www.arcnbc.org//NONSGML kigkonsult.se iCalcreator 2.30.10//
CALSCALE:GREGORIAN
METHOD:PUBLISH
UID:ff3dc0aa-d70a-4d85-94ca-0857180c35c2
X-WR-CALDESC:
X-WR-RELCALID:a5698ddcd53ae0e7ce2963c570f35fdc
X-WR-TIMEZONE:America/New_York
BEGIN:VTIMEZONE
TZID:America/New_York
BEGIN:STANDARD
TZNAME:EST
DTSTART:20181104T020000
TZOFFSETFROM:-0400
TZOFFSETTO:-0500
RDATE:20191103T020000
RDATE:20201101T020000
END:STANDARD
BEGIN:DAYLIGHT
TZNAME:EDT
DTSTART:20190310T020000
TZOFFSETFROM:-0500
TZOFFSETTO:-0400
RDATE:20200308T020000
RDATE:20210314T020000
END:DAYLIGHT
END:VTIMEZONE
BEGIN:VEVENT
UID:234cfa92-4e88-4156-8cca-590a875c19e6
DTSTAMP:20260423T120643Z
DESCRIPTION:
DTSTART;TZID=America/New_York:20191007T160000
DTEND;TZID=America/New_York:20191007T210000
LOCATION:Roger Williams Park Zoo
SUMMARY:Dinner & Jack O' Lantern Spectacular
END:VEVENT
END:VCALENDAR
