BEGIN:VCALENDAR
VERSION:2.0
PRODID:-//www.arcnbc.org//NONSGML kigkonsult.se iCalcreator 2.30.10//
CALSCALE:GREGORIAN
METHOD:PUBLISH
UID:f06370ca-4c0c-4641-88e1-88ad84ca0df2
X-WR-CALDESC:
X-WR-RELCALID:6443c43b7697af5a21258a7ac8d47d5a
X-WR-TIMEZONE:America/New_York
BEGIN:VTIMEZONE
TZID:America/New_York
BEGIN:STANDARD
TZNAME:EST
DTSTART:20181104T020000
TZOFFSETFROM:-0400
TZOFFSETTO:-0500
RDATE:20191103T020000
RDATE:20201101T020000
END:STANDARD
BEGIN:DAYLIGHT
TZNAME:EDT
DTSTART:20190310T020000
TZOFFSETFROM:-0500
TZOFFSETTO:-0400
RDATE:20200308T020000
RDATE:20210314T020000
END:DAYLIGHT
END:VTIMEZONE
BEGIN:VEVENT
UID:a5d3bbc0-74f9-40d6-b30b-7f5429cabf7b
DTSTAMP:20260423T121148Z
DESCRIPTION:
DTSTART;TZID=America/New_York:20191017T180000
DTEND;TZID=America/New_York:20191017T210000
LOCATION:
SUMMARY:The Arc of Bristol County's 60th Anniversary Celebration
END:VEVENT
END:VCALENDAR
